BEGIN:VCALENDAR
VERSION:2.0
PRODID:-//wp-events-plugin.com//7.2.3.1//EN
TZID:America/Chicago
X-WR-TIMEZONE:America/Chicago
BEGIN:VEVENT
UID:0-5@milkhauler.witruck.org
DTSTART;TZID=America/Chicago:20250528T120000
DTEND;TZID=America/Chicago:20250528T130000
DTSTAMP:20250513T203213Z
URL:https://milkhauler.witruck.org/events/board-of-directors-meeting-2/
SUMMARY:Board of Directors Meeting
DESCRIPTION:WMHA board meeting 5.28.25
LOCATION:WMHA Board Meeting - Wausau Mine Company\, 3904 Stewart Avenue\, W
 ausau\, WI \, 54401\, United States
X-APPLE-STRUCTURED-LOCATION;VALUE=URI;X-ADDRESS=3904 Stewart Avenue\, Wausa
 u\, WI \, 54401\, United States;X-APPLE-RADIUS=100;X-TITLE=WMHA Board Meet
 ing - Wausau Mine Company:geo:0,0
END:VEVENT
BEGIN:VTIMEZONE
TZID:America/Chicago
X-LIC-LOCATION:America/Chicago
BEGIN:DAYLIGHT
DTSTART:20250309T030000
TZOFFSETFROM:-0600
TZOFFSETTO:-0500
TZNAME:CDT
END:DAYLIGHT
END:VTIMEZONE
END:VCALENDAR